BEGIN:VCALENDAR
VERSION:2.0
PRODID:-//The Santa Family - ECPv6.15.20//NONSGML v1.0//EN
CALSCALE:GREGORIAN
METHOD:PUBLISH
X-ORIGINAL-URL:https://thesantafamily.ca
X-WR-CALDESC:Events for The Santa Family
REFRESH-INTERVAL;VALUE=DURATION:PT1H
X-Robots-Tag:noindex
X-PUBLISHED-TTL:PT1H
BEGIN:VTIMEZONE
TZID:America/New_York
BEGIN:DAYLIGHT
TZOFFSETFROM:-0500
TZOFFSETTO:-0400
TZNAME:EDT
DTSTART:20220313T070000
END:DAYLIGHT
BEGIN:STANDARD
TZOFFSETFROM:-0400
TZOFFSETTO:-0500
TZNAME:EST
DTSTART:20221106T060000
END:STANDARD
BEGIN:DAYLIGHT
TZOFFSETFROM:-0500
TZOFFSETTO:-0400
TZNAME:EDT
DTSTART:20230312T070000
END:DAYLIGHT
BEGIN:STANDARD
TZOFFSETFROM:-0400
TZOFFSETTO:-0500
TZNAME:EST
DTSTART:20231105T060000
END:STANDARD
BEGIN:DAYLIGHT
TZOFFSETFROM:-0500
TZOFFSETTO:-0400
TZNAME:EDT
DTSTART:20240310T070000
END:DAYLIGHT
BEGIN:STANDARD
TZOFFSETFROM:-0400
TZOFFSETTO:-0500
TZNAME:EST
DTSTART:20241103T060000
END:STANDARD
END:VTIMEZONE
BEGIN:VEVENT
DTSTART;TZID=America/New_York:20231224T180000
DTEND;TZID=America/New_York:20231224T233000
DTSTAMP:20260419T130637
CREATED:20231002T154617Z
LAST-MODIFIED:20231023T160625Z
UID:165-1703440800-1703460600@thesantafamily.ca
SUMMARY:Christmas Eve
DESCRIPTION:
URL:https://thesantafamily.ca/event/christmas-eve/
CATEGORIES:Holidays
ATTACH;FMTTYPE=image/jpeg:https://thesantafamily.ca/wp-content/uploads/2023/10/pexels-brett-sayles-1656564.jpg
END:VEVENT
END:VCALENDAR